BEGIN:VCALENDAR
VERSION:2.0
PRODID:-//ptpausa.org//NONSGML kigkonsult.se iCalcreator 2.30.10//
CALSCALE:GREGORIAN
METHOD:PUBLISH
UID:022d33a7-1351-454f-95d8-5c718a7df2f3
X-WR-CALDESC:Please join us at our April 2026 PTPA Zoom Gathering\, where f
 ellow PTPA members and Board Members will share creative fundraising ideas
 \, recent successes\, and practical strategies to strengthen parish partne
 rships.
X-WR-RELCALID:282c99617ed3ddacd245c6e5f82af5a9
X-WR-TIMEZONE:America/New_York
BEGIN:VTIMEZONE
TZID:America/New_York
BEGIN:STANDARD
TZNAME:EST
DTSTART:20251102T020000
TZOFFSETFROM:-0400
TZOFFSETTO:-0500
RDATE:20261101T020000
END:STANDARD
BEGIN:DAYLIGHT
TZNAME:EDT
DTSTART:20260308T020000
TZOFFSETFROM:-0500
TZOFFSETTO:-0400
RDATE:20270314T020000
END:DAYLIGHT
END:VTIMEZONE
BEGIN:VEVENT
UID:572aeca5-10de-4e3e-b8a3-7398cd6189cf
DTSTAMP:20260422T134701Z
DESCRIPTION:Please join us at our April 2026 PTPA Zoom Gathering\, where fe
 llow PTPA members and Board Members will share creative fundraising ideas\
 , recent successes\, and practical strategies to strengthen parish partner
 ships.
DTSTART;TZID=America/New_York:20260428T183000
DTEND;TZID=America/New_York:20260428T193000
LOCATION:https://zoom.us/meeting/register/poVnoKAHSW2fEePZfxsBmQ
SUMMARY:April Monthly Zoom Gathering: Fundraising Ideas and Successes from 
 PTPA Members and Board Members
END:VEVENT
END:VCALENDAR
